BEGIN:VCALENDAR
VERSION:2.0
PRODID:-//childbereavement.org//NONSGML kigkonsult.se iCalcreator 2.30.10//
CALSCALE:GREGORIAN
METHOD:PUBLISH
UID:7544073d-3077-4ae3-8e35-4a431958a006
X-WR-CALDESC:High School Group (Ages 14-17)\nTeens experiencing grief often
  face unique challenges as they juggle school\, friendships\, and identity
  development. This group provides a safe space for open discussions\, peer
  connection\, and exploring complex emotions related to their loss\, helpi
 ng them develop resilience and a sense of community. It meets on Tuesdays 
 from 7:00 PM to 8:30 PM EST.\n
X-WR-RELCALID:d3c9b0d586d705d5b1865330d15a15b0
X-WR-TIMEZONE:America/New_York
BEGIN:VTIMEZONE
TZID:America/New_York
BEGIN:STANDARD
TZNAME:EST
DTSTART:20311102T020000
TZOFFSETFROM:-0400
TZOFFSETTO:-0500
RDATE:20321107T020000
END:STANDARD
BEGIN:DAYLIGHT
TZNAME:EDT
DTSTART:20310309T020000
TZOFFSETFROM:-0500
TZOFFSETTO:-0400
RDATE:20320314T020000
RDATE:20330313T020000
END:DAYLIGHT
END:VTIMEZONE
BEGIN:VEVENT
UID:e42f4e0e-e9d8-4db7-911b-53021cf667df
DTSTAMP:20260425T145956Z
DESCRIPTION:High School Group (Ages 14-17)\nTeens experiencing grief often 
 face unique challenges as they juggle school\, friendships\, and identity 
 development. This group provides a safe space for open discussions\, peer 
 connection\, and exploring complex emotions related to their loss\, helpin
 g them develop resilience and a sense of community. It meets on Tuesdays f
 rom 7:00 PM to 8:30 PM EST.\n
DTSTART;TZID=America/New_York:20311230T190000
DTEND;TZID=America/New_York:20311230T203000
LOCATION:https://bit.ly/cbcgroups
SUMMARY:High School Grief Support Groups
END:VEVENT
END:VCALENDAR
