BEGIN:VCALENDAR
VERSION:2.0
PRODID:-//childbereavement.org//NONSGML kigkonsult.se iCalcreator 2.30.10//
CALSCALE:GREGORIAN
METHOD:PUBLISH
UID:064263a2-03ef-4742-a68b-e115ebff8ea0
X-WR-CALDESC:Designed for individuals who are further along in their grief 
 journey\, this group offers a space for continued support\, reflection\, a
 nd connection. Participants focus on personal growth\, honoring their love
 d ones\, and finding ways to integrate loss into their lives while fosteri
 ng hope and resilience. This group is held on the first Thursday of the mo
 nth from 7:00 PM - 8:30 PM EST in English and also available in Spanish on
  the 4th Thursday of each month.
X-WR-RELCALID:0a2c129763d58d57aea34a4befc433f0
X-WR-TIMEZONE:America/New_York
BEGIN:VTIMEZONE
TZID:America/New_York
BEGIN:STANDARD
TZNAME:EST
DTSTART:20311102T020000
TZOFFSETFROM:-0400
TZOFFSETTO:-0500
RDATE:20321107T020000
END:STANDARD
BEGIN:DAYLIGHT
TZNAME:EDT
DTSTART:20310309T020000
TZOFFSETFROM:-0500
TZOFFSETTO:-0400
RDATE:20320314T020000
RDATE:20330313T020000
END:DAYLIGHT
END:VTIMEZONE
BEGIN:VEVENT
UID:05deb430-0133-4687-9252-43365223f9a3
DTSTAMP:20260425T145903Z
DESCRIPTION:Designed for individuals who are further along in their grief j
 ourney\, this group offers a space for continued support\, reflection\, an
 d connection. Participants focus on personal growth\, honoring their loved
  ones\, and finding ways to integrate loss into their lives while fosterin
 g hope and resilience. This group is held on the first Thursday of the mon
 th from 7:00 PM - 8:30 PM EST in English and also available in Spanish on 
 the 4th Thursday of each month.
DTSTART;TZID=America/New_York:20311204T190000
DTEND;TZID=America/New_York:20311204T203000
LOCATION:https://bit.ly/cbcgroups
SUMMARY:Legacy Grief Support Group
END:VEVENT
END:VCALENDAR
