BEGIN:VCALENDAR
VERSION:2.0
PRODID:-//childbereavement.org//NONSGML kigkonsult.se iCalcreator 2.30.10//
CALSCALE:GREGORIAN
METHOD:PUBLISH
UID:b3badda9-5c22-4af2-ae56-fccee91c2506
X-WR-CALDESC:The loss of a beloved pet can be deeply painful. Pets are fami
 ly\, companions and sources of unconditional love. When they die\, the gri
 ef can feel overwhelming - and often misunderstood by others. Pet Loss Sup
 port Group is a compassionate place for adults mourning a pet. It provides
  a safe space to share\, listen and honor your bond. You don't have to fac
 e this alone. \n\nMeets monthly on the first Thursday of each month at 7:0
 0 PM\, registration is required.
X-WR-RELCALID:e226b451e1450b43a7ef6a82e671097c
X-WR-TIMEZONE:America/New_York
BEGIN:VTIMEZONE
TZID:America/New_York
BEGIN:STANDARD
TZNAME:EST
DTSTART:20301103T020000
TZOFFSETFROM:-0400
TZOFFSETTO:-0500
RDATE:20311102T020000
RDATE:20321107T020000
END:STANDARD
BEGIN:DAYLIGHT
TZNAME:EDT
DTSTART:20310309T020000
TZOFFSETFROM:-0500
TZOFFSETTO:-0400
RDATE:20320314T020000
RDATE:20330313T020000
END:DAYLIGHT
END:VTIMEZONE
BEGIN:VEVENT
UID:251033dd-d89f-42c4-856c-f1c5d570b092
DTSTAMP:20260425T115040Z
DESCRIPTION:The loss of a beloved pet can be deeply painful. Pets are famil
 y\, companions and sources of unconditional love. When they die\, the grie
 f can feel overwhelming - and often misunderstood by others. Pet Loss Supp
 ort Group is a compassionate place for adults mourning a pet. It provides 
 a safe space to share\, listen and honor your bond. You don't have to face
  this alone. \n\nMeets monthly on the first Thursday of each month at 7:00
  PM\, registration is required.
DTSTART;TZID=America/New_York:20311016T190000
DTEND;TZID=America/New_York:20311016T203000
LOCATION:https://bit.ly/cbcgroups
SUMMARY:Pet Loss Support Group
END:VEVENT
END:VCALENDAR
