BEGIN:VCALENDAR
VERSION:2.0
PRODID:-//childbereavement.org//NONSGML kigkonsult.se iCalcreator 2.30.10//
CALSCALE:GREGORIAN
METHOD:PUBLISH
UID:575d8cbc-3d41-4f32-b244-5bbd3ca33a68
X-WR-CALDESC:Child / Elementary School Group (Ages 4-10)\nOur child groups 
 provide a safe and nurturing space for young children to process their gri
 ef through age-appropriate activities\, play\, art\, and storytelling. Fac
 ilitators help children express their emotions\, develop coping skills\, a
 nd find comfort in connecting with peers who have also experienced loss. T
 hese groups are held Mondays and Thursdays from 5:30 PM to 6:30 PM EST.
X-WR-RELCALID:d7d6008bb90c984392c8c3772dad8675
X-WR-TIMEZONE:America/New_York
BEGIN:VTIMEZONE
TZID:America/New_York
BEGIN:STANDARD
TZNAME:EST
DTSTART:20301103T020000
TZOFFSETFROM:-0400
TZOFFSETTO:-0500
RDATE:20311102T020000
RDATE:20321107T020000
END:STANDARD
BEGIN:DAYLIGHT
TZNAME:EDT
DTSTART:20310309T020000
TZOFFSETFROM:-0500
TZOFFSETTO:-0400
RDATE:20320314T020000
RDATE:20330313T020000
END:DAYLIGHT
END:VTIMEZONE
BEGIN:VEVENT
UID:924d8ccb-8c61-4963-8d81-480ca289b3c6
DTSTAMP:20260425T101645Z
DESCRIPTION:Child / Elementary School Group (Ages 4-10)\nOur child groups p
 rovide a safe and nurturing space for young children to process their grie
 f through age-appropriate activities\, play\, art\, and storytelling. Faci
 litators help children express their emotions\, develop coping skills\, an
 d find comfort in connecting with peers who have also experienced loss. Th
 ese groups are held Mondays and Thursdays from 5:30 PM to 6:30 PM EST.
DTSTART;TZID=America/New_York:20310922T173000
DTEND;TZID=America/New_York:20310922T183000
LOCATION:https://bit.ly/cbcgroups
SUMMARY:Elementary School Grief Support Group
END:VEVENT
END:VCALENDAR
