BEGIN:VCALENDAR
VERSION:2.0
PRODID:-//childbereavement.org//NONSGML kigkonsult.se iCalcreator 2.30.10//
CALSCALE:GREGORIAN
METHOD:PUBLISH
UID:f0f055a0-3cc6-4159-980e-f0eed077c6d5
X-WR-CALDESC:This group is dedicated to parents and caregivers who have exp
 erienced the heartbreaking loss of a baby through miscarriage\, stillbirth
 \, or early infancy. The group provides a compassionate and understanding 
 space to share experiences\, process grief\, and receive support from othe
 rs who have endured similar losses. These groups are held in English on Tu
 esdays from 7:00 PM- 8:30 PM EST and are also available in Spanish on Wedn
 esdays from 7:00 PM – 8:30 PM EST.
X-WR-RELCALID:ab0ca228a7261339345c002db6f245d8
X-WR-TIMEZONE:America/New_York
BEGIN:VTIMEZONE
TZID:America/New_York
BEGIN:STANDARD
TZNAME:EST
DTSTART:20301103T020000
TZOFFSETFROM:-0400
TZOFFSETTO:-0500
RDATE:20311102T020000
RDATE:20321107T020000
END:STANDARD
BEGIN:DAYLIGHT
TZNAME:EDT
DTSTART:20310309T020000
TZOFFSETFROM:-0500
TZOFFSETTO:-0400
RDATE:20320314T020000
RDATE:20330313T020000
END:DAYLIGHT
END:VTIMEZONE
BEGIN:VEVENT
UID:084086f4-1ee6-41d4-8b9d-22e84c977d7d
DTSTAMP:20260425T102118Z
DESCRIPTION:This group is dedicated to parents and caregivers who have expe
 rienced the heartbreaking loss of a baby through miscarriage\, stillbirth\
 , or early infancy. The group provides a compassionate and understanding s
 pace to share experiences\, process grief\, and receive support from other
 s who have endured similar losses. These groups are held in English on Tue
 sdays from 7:00 PM- 8:30 PM EST and are also available in Spanish on Wedne
 sdays from 7:00 PM – 8:30 PM EST.
DTSTART;TZID=America/New_York:20310916T190000
DTEND;TZID=America/New_York:20310916T203000
LOCATION:https://bit.ly/cbcgroups
SUMMARY:Perinatal & Infant Loss Grief Support Group
END:VEVENT
END:VCALENDAR
