BEGIN:VCALENDAR
VERSION:2.0
PRODID:-//childbereavement.org//NONSGML kigkonsult.se iCalcreator 2.30.10//
CALSCALE:GREGORIAN
METHOD:PUBLISH
UID:4a591f5a-bcbd-4467-b9c8-7ab4b0c66a49
X-WR-CALDESC:Designed for individuals who are further along in their grief 
 journey\, this group offers a space for continued support\, reflection\, a
 nd connection. Participants focus on personal growth\, honoring their love
 d ones\, and finding ways to integrate loss into their lives while fosteri
 ng hope and resilience. This group is held on the first Thursday of the mo
 nth from 7:00 PM - 8:30 PM EST in English and also available in Spanish on
  the 4th Thursday of each month.
X-WR-RELCALID:c37fc14a32edb2a17102e0544f331052
X-WR-TIMEZONE:America/New_York
BEGIN:VTIMEZONE
TZID:America/New_York
BEGIN:STANDARD
TZNAME:EST
DTSTART:20301103T020000
TZOFFSETFROM:-0400
TZOFFSETTO:-0500
RDATE:20311102T020000
END:STANDARD
BEGIN:DAYLIGHT
TZNAME:EDT
DTSTART:20300310T020000
TZOFFSETFROM:-0500
TZOFFSETTO:-0400
RDATE:20310309T020000
RDATE:20320314T020000
END:DAYLIGHT
END:VTIMEZONE
BEGIN:VEVENT
UID:84b11cac-48e2-44f3-b198-d704a7bac3e4
DTSTAMP:20260425T002058Z
DESCRIPTION:Designed for individuals who are further along in their grief j
 ourney\, this group offers a space for continued support\, reflection\, an
 d connection. Participants focus on personal growth\, honoring their loved
  ones\, and finding ways to integrate loss into their lives while fosterin
 g hope and resilience. This group is held on the first Thursday of the mon
 th from 7:00 PM - 8:30 PM EST in English and also available in Spanish on 
 the 4th Thursday of each month.
DTSTART;TZID=America/New_York:20310206T190000
DTEND;TZID=America/New_York:20310206T203000
LOCATION:https://bit.ly/cbcgroups
SUMMARY:Legacy Grief Support Group
END:VEVENT
END:VCALENDAR
