BEGIN:VCALENDAR
VERSION:2.0
PRODID:-//childbereavement.org//NONSGML kigkonsult.se iCalcreator 2.30.10//
CALSCALE:GREGORIAN
METHOD:PUBLISH
UID:db4ff8cc-88cc-4d4d-b41f-2a8e721e96be
X-WR-CALDESC:Middle School Group (Ages 11-13)\nDesigned for preteens naviga
 ting grief and the emotional and social changes of adolescence\, this grou
 p offers a supportive environment where adolescents can share their experi
 ences\, develop coping strategies\, and explore their emotions through dis
 cussion\, creative expression\, and interactive activities. It is held on 
 Mondays from 7:00 PM to 8:30 PM EST.\n
X-WR-RELCALID:8a362c5f6e06849d4c0f044cfc5bcc4e
X-WR-TIMEZONE:America/New_York
BEGIN:VTIMEZONE
TZID:America/New_York
BEGIN:STANDARD
TZNAME:EST
DTSTART:20291104T020000
TZOFFSETFROM:-0400
TZOFFSETTO:-0500
RDATE:20301103T020000
RDATE:20311102T020000
END:STANDARD
BEGIN:DAYLIGHT
TZNAME:EDT
DTSTART:20300310T020000
TZOFFSETFROM:-0500
TZOFFSETTO:-0400
RDATE:20310309T020000
RDATE:20320314T020000
END:DAYLIGHT
END:VTIMEZONE
BEGIN:VEVENT
UID:afd44610-87f6-41a9-b1df-5731e99afa83
DTSTAMP:20260424T201326Z
DESCRIPTION:Middle School Group (Ages 11-13)\nDesigned for preteens navigat
 ing grief and the emotional and social changes of adolescence\, this group
  offers a supportive environment where adolescents can share their experie
 nces\, develop coping strategies\, and explore their emotions through disc
 ussion\, creative expression\, and interactive activities. It is held on M
 ondays from 7:00 PM to 8:30 PM EST.\n
DTSTART;TZID=America/New_York:20301104T190000
DTEND;TZID=America/New_York:20301104T203000
LOCATION:https://bit.ly/cbcgroups
SUMMARY:Middle School Grief Support Group
END:VEVENT
END:VCALENDAR
