BEGIN:VCALENDAR
VERSION:2.0
PRODID:-//childbereavement.org//NONSGML kigkonsult.se iCalcreator 2.30.10//
CALSCALE:GREGORIAN
METHOD:PUBLISH
UID:6452001a-f8bd-44ef-bca2-1e839cc107f4
X-WR-CALDESC:
X-WR-RELCALID:bf8df32feb61a989136daa8b684ea833
X-WR-TIMEZONE:America/New_York
BEGIN:VTIMEZONE
TZID:America/New_York
BEGIN:STANDARD
TZNAME:EST
DTSTART:20291104T020000
TZOFFSETFROM:-0400
TZOFFSETTO:-0500
RDATE:20301103T020000
RDATE:20311102T020000
END:STANDARD
BEGIN:DAYLIGHT
TZNAME:EDT
DTSTART:20300310T020000
TZOFFSETFROM:-0500
TZOFFSETTO:-0400
RDATE:20310309T020000
RDATE:20320314T020000
END:DAYLIGHT
END:VTIMEZONE
BEGIN:VEVENT
UID:7f66c3c9-e514-41dc-9f8a-33b561f17345
DTSTAMP:20260424T173911Z
DESCRIPTION:
DTSTART;TZID=America/New_York:20300926T190000
DTEND;TZID=America/New_York:20300926T203000
LOCATION:
SUMMARY:Grupo Creciendo con el duelo
END:VEVENT
END:VCALENDAR
