BEGIN:VCALENDAR
VERSION:2.0
PRODID:-//childbereavement.org//NONSGML kigkonsult.se iCalcreator 2.30.10//
CALSCALE:GREGORIAN
METHOD:PUBLISH
UID:18049d4e-b79e-4bab-a344-6fca53ad36ed
X-WR-CALDESC:High School Group (Ages 14-17)\nTeens experiencing grief often
  face unique challenges as they juggle school\, friendships\, and identity
  development. This group provides a safe space for open discussions\, peer
  connection\, and exploring complex emotions related to their loss\, helpi
 ng them develop resilience and a sense of community. It meets on Tuesdays 
 from 7:00 PM to 8:30 PM EST.\n
X-WR-RELCALID:1795b607c59d24b6a55afd396f7a9298
X-WR-TIMEZONE:America/New_York
BEGIN:VTIMEZONE
TZID:America/New_York
BEGIN:STANDARD
TZNAME:EST
DTSTART:20291104T020000
TZOFFSETFROM:-0400
TZOFFSETTO:-0500
RDATE:20301103T020000
RDATE:20311102T020000
END:STANDARD
BEGIN:DAYLIGHT
TZNAME:EDT
DTSTART:20300310T020000
TZOFFSETFROM:-0500
TZOFFSETTO:-0400
RDATE:20310309T020000
RDATE:20320314T020000
END:DAYLIGHT
END:VTIMEZONE
BEGIN:VEVENT
UID:5246f45b-44ca-49b4-99fb-c9838d50a782
DTSTAMP:20260424T174843Z
DESCRIPTION:High School Group (Ages 14-17)\nTeens experiencing grief often 
 face unique challenges as they juggle school\, friendships\, and identity 
 development. This group provides a safe space for open discussions\, peer 
 connection\, and exploring complex emotions related to their loss\, helpin
 g them develop resilience and a sense of community. It meets on Tuesdays f
 rom 7:00 PM to 8:30 PM EST.\n
DTSTART;TZID=America/New_York:20300917T190000
DTEND;TZID=America/New_York:20300917T203000
LOCATION:https://bit.ly/cbcgroups
SUMMARY:High School Grief Support Groups
END:VEVENT
END:VCALENDAR
