BEGIN:VCALENDAR
VERSION:2.0
PRODID:-//childbereavement.org//NONSGML kigkonsult.se iCalcreator 2.30.10//
CALSCALE:GREGORIAN
METHOD:PUBLISH
UID:0e22e962-8585-4c57-8bf3-50cb2927fcdf
X-WR-CALDESC:Child / Elementary School Group (Ages 4-10)\nOur child groups 
 provide a safe and nurturing space for young children to process their gri
 ef through age-appropriate activities\, play\, art\, and storytelling. Fac
 ilitators help children express their emotions\, develop coping skills\, a
 nd find comfort in connecting with peers who have also experienced loss. T
 hese groups are held Mondays and Thursdays from 5:30 PM to 6:30 PM EST.
X-WR-RELCALID:248fb52c94a195d9eb15a51364c712cb
X-WR-TIMEZONE:America/New_York
BEGIN:VTIMEZONE
TZID:America/New_York
BEGIN:STANDARD
TZNAME:EST
DTSTART:20291104T020000
TZOFFSETFROM:-0400
TZOFFSETTO:-0500
RDATE:20301103T020000
RDATE:20311102T020000
END:STANDARD
BEGIN:DAYLIGHT
TZNAME:EDT
DTSTART:20300310T020000
TZOFFSETFROM:-0500
TZOFFSETTO:-0400
RDATE:20310309T020000
END:DAYLIGHT
END:VTIMEZONE
BEGIN:VEVENT
UID:09def4c1-be26-441a-be40-2bc481c890fb
DTSTAMP:20260424T161145Z
DESCRIPTION:Child / Elementary School Group (Ages 4-10)\nOur child groups p
 rovide a safe and nurturing space for young children to process their grie
 f through age-appropriate activities\, play\, art\, and storytelling. Faci
 litators help children express their emotions\, develop coping skills\, an
 d find comfort in connecting with peers who have also experienced loss. Th
 ese groups are held Mondays and Thursdays from 5:30 PM to 6:30 PM EST.
DTSTART;TZID=America/New_York:20300812T173000
DTEND;TZID=America/New_York:20300812T183000
LOCATION:https://bit.ly/cbcgroups
SUMMARY:Elementary School Grief Support Group
END:VEVENT
END:VCALENDAR
