BEGIN:VCALENDAR
VERSION:2.0
PRODID:-//childbereavement.org//NONSGML kigkonsult.se iCalcreator 2.30.10//
CALSCALE:GREGORIAN
METHOD:PUBLISH
UID:52f3dec9-4032-4c7d-8608-698b55ca6ce6
X-WR-CALDESC:Our groups support adults navigating the loss of a loved one\,
  whether it be a spouse\, parent\, sibling\, or close friend. Sessions foc
 us on emotional processing\, self-care\, and finding ways to honor and rem
 ember their loved ones while adapting to life after loss. These groups are
  held Mondays - Wednesdays from 7:00 PM- 8:30 PM EST in English. \n\nAdult
  Groups are also available in Spanish on Wednesdays and in Haitian Creole 
 on Thursdays from 7:00 PM - 8:30 PM.
X-WR-RELCALID:3ca5a2d2c2432aa5ca457ea108cc4bb7
X-WR-TIMEZONE:America/New_York
BEGIN:VTIMEZONE
TZID:America/New_York
BEGIN:STANDARD
TZNAME:EST
DTSTART:20291104T020000
TZOFFSETFROM:-0400
TZOFFSETTO:-0500
RDATE:20301103T020000
RDATE:20311102T020000
END:STANDARD
BEGIN:DAYLIGHT
TZNAME:EDT
DTSTART:20300310T020000
TZOFFSETFROM:-0500
TZOFFSETTO:-0400
RDATE:20310309T020000
END:DAYLIGHT
END:VTIMEZONE
BEGIN:VEVENT
UID:ecf3e023-a150-48ac-9588-050e0115145f
DTSTAMP:20260424T145812Z
DESCRIPTION:Our groups support adults navigating the loss of a loved one\, 
 whether it be a spouse\, parent\, sibling\, or close friend. Sessions focu
 s on emotional processing\, self-care\, and finding ways to honor and reme
 mber their loved ones while adapting to life after loss. These groups are 
 held Mondays - Wednesdays from 7:00 PM- 8:30 PM EST in English. \n\nAdult 
 Groups are also available in Spanish on Wednesdays and in Haitian Creole o
 n Thursdays from 7:00 PM - 8:30 PM.
DTSTART;TZID=America/New_York:20300731T190000
DTEND;TZID=America/New_York:20300731T203000
LOCATION:https://bit.ly/cbcgroups
SUMMARY:Adult English Grief Support Group
END:VEVENT
END:VCALENDAR
