BEGIN:VCALENDAR
VERSION:2.0
PRODID:-//childbereavement.org//NONSGML kigkonsult.se iCalcreator 2.30.10//
CALSCALE:GREGORIAN
METHOD:PUBLISH
UID:e9652030-f33a-4325-8a18-c49365bd5878
X-WR-CALDESC:This group is dedicated to parents and caregivers who have exp
 erienced the heartbreaking loss of a baby through miscarriage\, stillbirth
 \, or early infancy. The group provides a compassionate and understanding 
 space to share experiences\, process grief\, and receive support from othe
 rs who have endured similar losses. These groups are held in English on Tu
 esdays from 7:00 PM- 8:30 PM EST and are also available in Spanish on Wedn
 esdays from 7:00 PM – 8:30 PM EST.
X-WR-RELCALID:0ed2c02525555997fb31e80c9925719b
X-WR-TIMEZONE:America/New_York
BEGIN:VTIMEZONE
TZID:America/New_York
BEGIN:STANDARD
TZNAME:EST
DTSTART:20291104T020000
TZOFFSETFROM:-0400
TZOFFSETTO:-0500
RDATE:20301103T020000
RDATE:20311102T020000
END:STANDARD
BEGIN:DAYLIGHT
TZNAME:EDT
DTSTART:20300310T020000
TZOFFSETFROM:-0500
TZOFFSETTO:-0400
RDATE:20310309T020000
END:DAYLIGHT
END:VTIMEZONE
BEGIN:VEVENT
UID:d49f4c65-49e8-4fdb-90aa-71f32e9aaf61
DTSTAMP:20260424T131956Z
DESCRIPTION:This group is dedicated to parents and caregivers who have expe
 rienced the heartbreaking loss of a baby through miscarriage\, stillbirth\
 , or early infancy. The group provides a compassionate and understanding s
 pace to share experiences\, process grief\, and receive support from other
 s who have endured similar losses. These groups are held in English on Tue
 sdays from 7:00 PM- 8:30 PM EST and are also available in Spanish on Wedne
 sdays from 7:00 PM – 8:30 PM EST.
DTSTART;TZID=America/New_York:20300625T190000
DTEND;TZID=America/New_York:20300625T203000
LOCATION:https://bit.ly/cbcgroups
SUMMARY:Perinatal & Infant Loss Grief Support Group
END:VEVENT
END:VCALENDAR
