BEGIN:VCALENDAR
VERSION:2.0
PRODID:-//childbereavement.org//NONSGML kigkonsult.se iCalcreator 2.30.10//
CALSCALE:GREGORIAN
METHOD:PUBLISH
UID:86ec51ae-8432-4d56-977d-fe6bfd50fafd
X-WR-CALDESC:
X-WR-RELCALID:f839e757932d143553540797bc09850d
X-WR-TIMEZONE:America/New_York
BEGIN:VTIMEZONE
TZID:America/New_York
BEGIN:STANDARD
TZNAME:EST
DTSTART:20291104T020000
TZOFFSETFROM:-0400
TZOFFSETTO:-0500
RDATE:20301103T020000
END:STANDARD
BEGIN:DAYLIGHT
TZNAME:EDT
DTSTART:20290311T020000
TZOFFSETFROM:-0500
TZOFFSETTO:-0400
RDATE:20300310T020000
RDATE:20310309T020000
END:DAYLIGHT
END:VTIMEZONE
BEGIN:VEVENT
UID:0cbe5265-5f24-4fa3-acc2-1a7ef9cb6ff3
DTSTAMP:20260424T064921Z
DESCRIPTION:
DTSTART;TZID=America/New_York:20300228T190000
DTEND;TZID=America/New_York:20300228T203000
LOCATION:
SUMMARY:Grupo Creciendo con el duelo
END:VEVENT
END:VCALENDAR
