BEGIN:VCALENDAR
VERSION:2.0
PRODID:-//childbereavement.org//NONSGML kigkonsult.se iCalcreator 2.30.10//
CALSCALE:GREGORIAN
METHOD:PUBLISH
UID:99c29edf-029e-4fb0-9298-46f6af30d880
X-WR-CALDESC:The loss of a beloved pet can be deeply painful. Pets are fami
 ly\, companions and sources of unconditional love. When they die\, the gri
 ef can feel overwhelming - and often misunderstood by others. Pet Loss Sup
 port Group is a compassionate place for adults mourning a pet. It provides
  a safe space to share\, listen and honor your bond. You don't have to fac
 e this alone. \n\nMeets monthly on the first Thursday of each month at 7:0
 0 PM\, registration is required.
X-WR-RELCALID:bd51eb6e552c1302012701cde4576b54
X-WR-TIMEZONE:America/New_York
BEGIN:VTIMEZONE
TZID:America/New_York
BEGIN:STANDARD
TZNAME:EST
DTSTART:20281105T020000
TZOFFSETFROM:-0400
TZOFFSETTO:-0500
RDATE:20291104T020000
RDATE:20301103T020000
END:STANDARD
BEGIN:DAYLIGHT
TZNAME:EDT
DTSTART:20290311T020000
TZOFFSETFROM:-0500
TZOFFSETTO:-0400
RDATE:20300310T020000
RDATE:20310309T020000
END:DAYLIGHT
END:VTIMEZONE
BEGIN:VEVENT
UID:fd51f038-2a2a-459e-9b4c-f097f72ff6f1
DTSTAMP:20260424T022641Z
DESCRIPTION:The loss of a beloved pet can be deeply painful. Pets are famil
 y\, companions and sources of unconditional love. When they die\, the grie
 f can feel overwhelming - and often misunderstood by others. Pet Loss Supp
 ort Group is a compassionate place for adults mourning a pet. It provides 
 a safe space to share\, listen and honor your bond. You don't have to face
  this alone. \n\nMeets monthly on the first Thursday of each month at 7:00
  PM\, registration is required.
DTSTART;TZID=America/New_York:20291101T190000
DTEND;TZID=America/New_York:20291101T203000
LOCATION:https://bit.ly/cbcgroups
SUMMARY:Pet Loss Support Group
END:VEVENT
END:VCALENDAR
