BEGIN:VCALENDAR
VERSION:2.0
PRODID:-//childbereavement.org//NONSGML kigkonsult.se iCalcreator 2.30.10//
CALSCALE:GREGORIAN
METHOD:PUBLISH
UID:a8e54d50-1ea4-4f32-9c74-ab99514dd5f5
X-WR-CALDESC:Designed for individuals who are further along in their grief 
 journey\, this group offers a space for continued support\, reflection\, a
 nd connection. Participants focus on personal growth\, honoring their love
 d ones\, and finding ways to integrate loss into their lives while fosteri
 ng hope and resilience. This group is held on the first Thursday of the mo
 nth from 7:00 PM - 8:30 PM EST in English and also available in Spanish on
  the 4th Thursday of each month.
X-WR-RELCALID:ece669a164864d7b253cb4aac033cce8
X-WR-TIMEZONE:America/New_York
BEGIN:VTIMEZONE
TZID:America/New_York
BEGIN:STANDARD
TZNAME:EST
DTSTART:20281105T020000
TZOFFSETFROM:-0400
TZOFFSETTO:-0500
RDATE:20291104T020000
RDATE:20301103T020000
END:STANDARD
BEGIN:DAYLIGHT
TZNAME:EDT
DTSTART:20290311T020000
TZOFFSETFROM:-0500
TZOFFSETTO:-0400
RDATE:20300310T020000
RDATE:20310309T020000
END:DAYLIGHT
END:VTIMEZONE
BEGIN:VEVENT
UID:fbb7afe1-39cc-4e54-90a3-74d13fb1bfd1
DTSTAMP:20260424T022639Z
DESCRIPTION:Designed for individuals who are further along in their grief j
 ourney\, this group offers a space for continued support\, reflection\, an
 d connection. Participants focus on personal growth\, honoring their loved
  ones\, and finding ways to integrate loss into their lives while fosterin
 g hope and resilience. This group is held on the first Thursday of the mon
 th from 7:00 PM - 8:30 PM EST in English and also available in Spanish on 
 the 4th Thursday of each month.
DTSTART;TZID=America/New_York:20291101T190000
DTEND;TZID=America/New_York:20291101T203000
LOCATION:https://bit.ly/cbcgroups
SUMMARY:Legacy Grief Support Group
END:VEVENT
END:VCALENDAR
