BEGIN:VCALENDAR
VERSION:2.0
PRODID:-//childbereavement.org//NONSGML kigkonsult.se iCalcreator 2.30.10//
CALSCALE:GREGORIAN
METHOD:PUBLISH
UID:1e2465b9-ee17-4aaa-9492-a49804e2b989
X-WR-CALDESC:This group is dedicated to parents and caregivers who have exp
 erienced the heartbreaking loss of a baby through miscarriage\, stillbirth
 \, or early infancy. The group provides a compassionate and understanding 
 space to share experiences\, process grief\, and receive support from othe
 rs who have endured similar losses. These groups are held in English on Tu
 esdays from 7:00 PM- 8:30 PM EST and are also available in Spanish on Wedn
 esdays from 7:00 PM – 8:30 PM EST.
X-WR-RELCALID:fbe4b5e50e171974ed749ec9678ea4d9
X-WR-TIMEZONE:America/New_York
BEGIN:VTIMEZONE
TZID:America/New_York
BEGIN:STANDARD
TZNAME:EST
DTSTART:20281105T020000
TZOFFSETFROM:-0400
TZOFFSETTO:-0500
RDATE:20291104T020000
RDATE:20301103T020000
END:STANDARD
BEGIN:DAYLIGHT
TZNAME:EDT
DTSTART:20290311T020000
TZOFFSETFROM:-0500
TZOFFSETTO:-0400
RDATE:20300310T020000
RDATE:20310309T020000
END:DAYLIGHT
END:VTIMEZONE
BEGIN:VEVENT
UID:64d6a060-4c08-4e4a-84cc-43f51c30f6f0
DTSTAMP:20260424T012336Z
DESCRIPTION:This group is dedicated to parents and caregivers who have expe
 rienced the heartbreaking loss of a baby through miscarriage\, stillbirth\
 , or early infancy. The group provides a compassionate and understanding s
 pace to share experiences\, process grief\, and receive support from other
 s who have endured similar losses. These groups are held in English on Tue
 sdays from 7:00 PM- 8:30 PM EST and are also available in Spanish on Wedne
 sdays from 7:00 PM – 8:30 PM EST.
DTSTART;TZID=America/New_York:20291023T190000
DTEND;TZID=America/New_York:20291023T203000
LOCATION:https://bit.ly/cbcgroups
SUMMARY:Perinatal & Infant Loss Grief Support Group
END:VEVENT
END:VCALENDAR
