BEGIN:VCALENDAR
VERSION:2.0
PRODID:-//childbereavement.org//NONSGML kigkonsult.se iCalcreator 2.30.10//
CALSCALE:GREGORIAN
METHOD:PUBLISH
UID:ee55f839-5fab-42c0-b29c-6016a6a2234c
X-WR-CALDESC:Child / Elementary School Group (Ages 4-10)\nOur child groups 
 provide a safe and nurturing space for young children to process their gri
 ef through age-appropriate activities\, play\, art\, and storytelling. Fac
 ilitators help children express their emotions\, develop coping skills\, a
 nd find comfort in connecting with peers who have also experienced loss. T
 hese groups are held Mondays and Thursdays from 5:30 PM to 6:30 PM EST.
X-WR-RELCALID:b5076e17d039bdef0e8ce7e9e5ed2ce6
X-WR-TIMEZONE:America/New_York
BEGIN:VTIMEZONE
TZID:America/New_York
BEGIN:STANDARD
TZNAME:EST
DTSTART:20281105T020000
TZOFFSETFROM:-0400
TZOFFSETTO:-0500
RDATE:20291104T020000
RDATE:20301103T020000
END:STANDARD
BEGIN:DAYLIGHT
TZNAME:EDT
DTSTART:20290311T020000
TZOFFSETFROM:-0500
TZOFFSETTO:-0400
RDATE:20300310T020000
RDATE:20310309T020000
END:DAYLIGHT
END:VTIMEZONE
BEGIN:VEVENT
UID:af2dc3f4-51cc-495e-aa0f-ddcfc5e78dff
DTSTAMP:20260423T234202Z
DESCRIPTION:Child / Elementary School Group (Ages 4-10)\nOur child groups p
 rovide a safe and nurturing space for young children to process their grie
 f through age-appropriate activities\, play\, art\, and storytelling. Faci
 litators help children express their emotions\, develop coping skills\, an
 d find comfort in connecting with peers who have also experienced loss. Th
 ese groups are held Mondays and Thursdays from 5:30 PM to 6:30 PM EST.
DTSTART;TZID=America/New_York:20290917T173000
DTEND;TZID=America/New_York:20290917T183000
LOCATION:https://bit.ly/cbcgroups
SUMMARY:Elementary School Grief Support Group
END:VEVENT
END:VCALENDAR
