BEGIN:VCALENDAR
VERSION:2.0
PRODID:-//childbereavement.org//NONSGML kigkonsult.se iCalcreator 2.30.10//
CALSCALE:GREGORIAN
METHOD:PUBLISH
UID:6ebee29e-5520-49ca-87be-d3fdee70c455
X-WR-CALDESC:
X-WR-RELCALID:0b1ddcd0173495f39ca55febc17f57ea
X-WR-TIMEZONE:America/New_York
BEGIN:VTIMEZONE
TZID:America/New_York
BEGIN:STANDARD
TZNAME:EST
DTSTART:20281105T020000
TZOFFSETFROM:-0400
TZOFFSETTO:-0500
RDATE:20291104T020000
END:STANDARD
BEGIN:DAYLIGHT
TZNAME:EDT
DTSTART:20290311T020000
TZOFFSETFROM:-0500
TZOFFSETTO:-0400
RDATE:20300310T020000
END:DAYLIGHT
END:VTIMEZONE
BEGIN:VEVENT
UID:45e67b50-4c68-40e4-bb59-7163b13a5cd8
DTSTAMP:20260423T162416Z
DESCRIPTION:
DTSTART;TZID=America/New_York:20290426T190000
DTEND;TZID=America/New_York:20290426T203000
LOCATION:
SUMMARY:Grupo Creciendo con el duelo
END:VEVENT
END:VCALENDAR
