BEGIN:VCALENDAR
VERSION:2.0
PRODID:-//childbereavement.org//NONSGML kigkonsult.se iCalcreator 2.30.10//
CALSCALE:GREGORIAN
METHOD:PUBLISH
UID:0273f857-fe0b-42b0-81b2-af2b340ba670
X-WR-CALDESC:Our groups support adults navigating the loss of a loved one\,
  whether it be a spouse\, parent\, sibling\, or close friend. Sessions foc
 us on emotional processing\, self-care\, and finding ways to honor and rem
 ember their loved ones while adapting to life after loss. These groups are
  held Mondays - Wednesdays from 7:00 PM- 8:30 PM EST in English. \n\nAdult
  Groups are also available in Spanish on Wednesdays and in Haitian Creole 
 on Thursdays from 7:00 PM - 8:30 PM.
X-WR-RELCALID:d746230ee993ba3336152055d26fbc1c
X-WR-TIMEZONE:America/New_York
BEGIN:VTIMEZONE
TZID:America/New_York
BEGIN:STANDARD
TZNAME:EST
DTSTART:20281105T020000
TZOFFSETFROM:-0400
TZOFFSETTO:-0500
RDATE:20291104T020000
END:STANDARD
BEGIN:DAYLIGHT
TZNAME:EDT
DTSTART:20280312T020000
TZOFFSETFROM:-0500
TZOFFSETTO:-0400
RDATE:20290311T020000
RDATE:20300310T020000
END:DAYLIGHT
END:VTIMEZONE
BEGIN:VEVENT
UID:4a76c68d-fcf3-442a-b0fc-94de741dfac2
DTSTAMP:20260423T115941Z
DESCRIPTION:Our groups support adults navigating the loss of a loved one\, 
 whether it be a spouse\, parent\, sibling\, or close friend. Sessions focu
 s on emotional processing\, self-care\, and finding ways to honor and reme
 mber their loved ones while adapting to life after loss. These groups are 
 held Mondays - Wednesdays from 7:00 PM- 8:30 PM EST in English. \n\nAdult 
 Groups are also available in Spanish on Wednesdays and in Haitian Creole o
 n Thursdays from 7:00 PM - 8:30 PM.
DTSTART;TZID=America/New_York:20290130T190000
DTEND;TZID=America/New_York:20290130T203000
LOCATION:https://bit.ly/cbcgroups
SUMMARY:Adult English Grief Support Group
END:VEVENT
END:VCALENDAR
