BEGIN:VCALENDAR
VERSION:2.0
PRODID:-//childbereavement.org//NONSGML kigkonsult.se iCalcreator 2.30.10//
CALSCALE:GREGORIAN
METHOD:PUBLISH
UID:94c13d78-3582-4035-9c17-88ce71f2df03
X-WR-CALDESC:High School Group (Ages 14-17)\nTeens experiencing grief often
  face unique challenges as they juggle school\, friendships\, and identity
  development. This group provides a safe space for open discussions\, peer
  connection\, and exploring complex emotions related to their loss\, helpi
 ng them develop resilience and a sense of community. It meets on Tuesdays 
 from 7:00 PM to 8:30 PM EST.\n
X-WR-RELCALID:42be21c7d2b56d55950ce906df269752
X-WR-TIMEZONE:America/New_York
BEGIN:VTIMEZONE
TZID:America/New_York
BEGIN:STANDARD
TZNAME:EST
DTSTART:20281105T020000
TZOFFSETFROM:-0400
TZOFFSETTO:-0500
RDATE:20291104T020000
END:STANDARD
BEGIN:DAYLIGHT
TZNAME:EDT
DTSTART:20280312T020000
TZOFFSETFROM:-0500
TZOFFSETTO:-0400
RDATE:20290311T020000
RDATE:20300310T020000
END:DAYLIGHT
END:VTIMEZONE
BEGIN:VEVENT
UID:df5c7eab-7116-4b3e-a7af-a0e3ac5a111a
DTSTAMP:20260423T102453Z
DESCRIPTION:High School Group (Ages 14-17)\nTeens experiencing grief often 
 face unique challenges as they juggle school\, friendships\, and identity 
 development. This group provides a safe space for open discussions\, peer 
 connection\, and exploring complex emotions related to their loss\, helpin
 g them develop resilience and a sense of community. It meets on Tuesdays f
 rom 7:00 PM to 8:30 PM EST.\n
DTSTART;TZID=America/New_York:20281205T190000
DTEND;TZID=America/New_York:20281205T203000
LOCATION:https://bit.ly/cbcgroups
SUMMARY:High School Grief Support Groups
END:VEVENT
END:VCALENDAR
