BEGIN:VCALENDAR
VERSION:2.0
PRODID:-//childbereavement.org//NONSGML kigkonsult.se iCalcreator 2.30.10//
CALSCALE:GREGORIAN
METHOD:PUBLISH
UID:16791078-a2dc-4e4e-acb8-b533c232cd95
X-WR-CALDESC:The loss of a beloved pet can be deeply painful. Pets are fami
 ly\, companions and sources of unconditional love. When they die\, the gri
 ef can feel overwhelming - and often misunderstood by others. Pet Loss Sup
 port Group is a compassionate place for adults mourning a pet. It provides
  a safe space to share\, listen and honor your bond. You don't have to fac
 e this alone. \n\nMeets monthly on the first Thursday of each month at 7:0
 0 PM\, registration is required.
X-WR-RELCALID:e2784324eeb913aa366abfacffe5581e
X-WR-TIMEZONE:America/New_York
BEGIN:VTIMEZONE
TZID:America/New_York
BEGIN:STANDARD
TZNAME:EST
DTSTART:20271107T020000
TZOFFSETFROM:-0400
TZOFFSETTO:-0500
RDATE:20281105T020000
RDATE:20291104T020000
END:STANDARD
BEGIN:DAYLIGHT
TZNAME:EDT
DTSTART:20280312T020000
TZOFFSETFROM:-0500
TZOFFSETTO:-0400
RDATE:20290311T020000
RDATE:20300310T020000
END:DAYLIGHT
END:VTIMEZONE
BEGIN:VEVENT
UID:c126bcbf-725b-4c73-b865-db2c083d65fe
DTSTAMP:20260423T071620Z
DESCRIPTION:The loss of a beloved pet can be deeply painful. Pets are famil
 y\, companions and sources of unconditional love. When they die\, the grie
 f can feel overwhelming - and often misunderstood by others. Pet Loss Supp
 ort Group is a compassionate place for adults mourning a pet. It provides 
 a safe space to share\, listen and honor your bond. You don't have to face
  this alone. \n\nMeets monthly on the first Thursday of each month at 7:00
  PM\, registration is required.
DTSTART;TZID=America/New_York:20281019T190000
DTEND;TZID=America/New_York:20281019T203000
LOCATION:https://bit.ly/cbcgroups
SUMMARY:Pet Loss Support Group
END:VEVENT
END:VCALENDAR
