BEGIN:VCALENDAR
VERSION:2.0
PRODID:-//childbereavement.org//NONSGML kigkonsult.se iCalcreator 2.30.10//
CALSCALE:GREGORIAN
METHOD:PUBLISH
UID:76816c94-f7a4-4977-a772-741d17370039
X-WR-CALDESC:Middle School Group (Ages 11-13)\nDesigned for preteens naviga
 ting grief and the emotional and social changes of adolescence\, this grou
 p offers a supportive environment where adolescents can share their experi
 ences\, develop coping strategies\, and explore their emotions through dis
 cussion\, creative expression\, and interactive activities. It is held on 
 Mondays from 7:00 PM to 8:30 PM EST.\n
X-WR-RELCALID:6b023822f951aca7cc9e4efc107e8892
X-WR-TIMEZONE:America/New_York
BEGIN:VTIMEZONE
TZID:America/New_York
BEGIN:STANDARD
TZNAME:EST
DTSTART:20271107T020000
TZOFFSETFROM:-0400
TZOFFSETTO:-0500
RDATE:20281105T020000
RDATE:20291104T020000
END:STANDARD
BEGIN:DAYLIGHT
TZNAME:EDT
DTSTART:20280312T020000
TZOFFSETFROM:-0500
TZOFFSETTO:-0400
RDATE:20290311T020000
RDATE:20300310T020000
END:DAYLIGHT
END:VTIMEZONE
BEGIN:VEVENT
UID:5b1a267e-a590-402c-b1b3-cfc73dec65aa
DTSTAMP:20260423T055126Z
DESCRIPTION:Middle School Group (Ages 11-13)\nDesigned for preteens navigat
 ing grief and the emotional and social changes of adolescence\, this group
  offers a supportive environment where adolescents can share their experie
 nces\, develop coping strategies\, and explore their emotions through disc
 ussion\, creative expression\, and interactive activities. It is held on M
 ondays from 7:00 PM to 8:30 PM EST.\n
DTSTART;TZID=America/New_York:20280918T190000
DTEND;TZID=America/New_York:20280918T203000
LOCATION:https://bit.ly/cbcgroups
SUMMARY:Middle School Grief Support Group
END:VEVENT
END:VCALENDAR
