BEGIN:VCALENDAR
VERSION:2.0
PRODID:-//childbereavement.org//NONSGML kigkonsult.se iCalcreator 2.30.10//
CALSCALE:GREGORIAN
METHOD:PUBLISH
UID:e119dc05-e663-481b-a973-60d0493c9172
X-WR-CALDESC:Our groups support adults navigating the loss of a loved one\,
  whether it be a spouse\, parent\, sibling\, or close friend. Sessions foc
 us on emotional processing\, self-care\, and finding ways to honor and rem
 ember their loved ones while adapting to life after loss. These groups are
  held Mondays - Wednesdays from 7:00 PM- 8:30 PM EST in English. \n\nAdult
  Groups are also available in Spanish on Wednesdays and in Haitian Creole 
 on Thursdays from 7:00 PM - 8:30 PM.
X-WR-RELCALID:ab62fe7300a9d1bbec24face009af7bb
X-WR-TIMEZONE:America/New_York
BEGIN:VTIMEZONE
TZID:America/New_York
BEGIN:STANDARD
TZNAME:EST
DTSTART:20271107T020000
TZOFFSETFROM:-0400
TZOFFSETTO:-0500
RDATE:20281105T020000
RDATE:20291104T020000
END:STANDARD
BEGIN:DAYLIGHT
TZNAME:EDT
DTSTART:20280312T020000
TZOFFSETFROM:-0500
TZOFFSETTO:-0400
RDATE:20290311T020000
RDATE:20300310T020000
END:DAYLIGHT
END:VTIMEZONE
BEGIN:VEVENT
UID:5fe3f14f-19f0-4080-89f1-7eb61c92319b
DTSTAMP:20260423T060055Z
DESCRIPTION:Our groups support adults navigating the loss of a loved one\, 
 whether it be a spouse\, parent\, sibling\, or close friend. Sessions focu
 s on emotional processing\, self-care\, and finding ways to honor and reme
 mber their loved ones while adapting to life after loss. These groups are 
 held Mondays - Wednesdays from 7:00 PM- 8:30 PM EST in English. \n\nAdult 
 Groups are also available in Spanish on Wednesdays and in Haitian Creole o
 n Thursdays from 7:00 PM - 8:30 PM.
DTSTART;TZID=America/New_York:20280912T190000
DTEND;TZID=America/New_York:20280912T203000
LOCATION:https://bit.ly/cbcgroups
SUMMARY:Adult English Grief Support Group
END:VEVENT
END:VCALENDAR
