BEGIN:VCALENDAR
VERSION:2.0
PRODID:-//childbereavement.org//NONSGML kigkonsult.se iCalcreator 2.30.10//
CALSCALE:GREGORIAN
METHOD:PUBLISH
UID:fc069663-38b7-4018-ad40-771d560fc7d3
X-WR-CALDESC:Middle School Group (Ages 11-13)\nDesigned for preteens naviga
 ting grief and the emotional and social changes of adolescence\, this grou
 p offers a supportive environment where adolescents can share their experi
 ences\, develop coping strategies\, and explore their emotions through dis
 cussion\, creative expression\, and interactive activities. It is held on 
 Mondays from 7:00 PM to 8:30 PM EST.\n
X-WR-RELCALID:9662f58f846a8a7c59472fc66c63a649
X-WR-TIMEZONE:America/New_York
BEGIN:VTIMEZONE
TZID:America/New_York
BEGIN:STANDARD
TZNAME:EST
DTSTART:20271107T020000
TZOFFSETFROM:-0400
TZOFFSETTO:-0500
RDATE:20281105T020000
RDATE:20291104T020000
END:STANDARD
BEGIN:DAYLIGHT
TZNAME:EDT
DTSTART:20280312T020000
TZOFFSETFROM:-0500
TZOFFSETTO:-0400
RDATE:20290311T020000
END:DAYLIGHT
END:VTIMEZONE
BEGIN:VEVENT
UID:835bfaa4-73f6-432f-b8f1-aca68b52dc5f
DTSTAMP:20260423T030923Z
DESCRIPTION:Middle School Group (Ages 11-13)\nDesigned for preteens navigat
 ing grief and the emotional and social changes of adolescence\, this group
  offers a supportive environment where adolescents can share their experie
 nces\, develop coping strategies\, and explore their emotions through disc
 ussion\, creative expression\, and interactive activities. It is held on M
 ondays from 7:00 PM to 8:30 PM EST.\n
DTSTART;TZID=America/New_York:20280724T190000
DTEND;TZID=America/New_York:20280724T203000
LOCATION:https://bit.ly/cbcgroups
SUMMARY:Middle School Grief Support Group
END:VEVENT
END:VCALENDAR
