BEGIN:VCALENDAR
VERSION:2.0
PRODID:-//childbereavement.org//NONSGML kigkonsult.se iCalcreator 2.30.10//
CALSCALE:GREGORIAN
METHOD:PUBLISH
UID:eeb5cfbd-0a5f-46d4-8fb0-d2d0476b9b82
X-WR-CALDESC:
X-WR-RELCALID:0bb2fc53cac9cd6f3bddc9090dcee7fd
X-WR-TIMEZONE:America/New_York
BEGIN:VTIMEZONE
TZID:America/New_York
BEGIN:STANDARD
TZNAME:EST
DTSTART:20271107T020000
TZOFFSETFROM:-0400
TZOFFSETTO:-0500
RDATE:20281105T020000
END:STANDARD
BEGIN:DAYLIGHT
TZNAME:EDT
DTSTART:20280312T020000
TZOFFSETFROM:-0500
TZOFFSETTO:-0400
RDATE:20290311T020000
END:DAYLIGHT
END:VTIMEZONE
BEGIN:VEVENT
UID:255d56eb-7bb4-48d4-8a17-d4c933001c0c
DTSTAMP:20260422T224343Z
DESCRIPTION:
DTSTART;TZID=America/New_York:20280427T190000
DTEND;TZID=America/New_York:20280427T203000
LOCATION:
SUMMARY:Grupo Creciendo con el duelo
END:VEVENT
END:VCALENDAR
