BEGIN:VCALENDAR
VERSION:2.0
PRODID:-//childbereavement.org//NONSGML kigkonsult.se iCalcreator 2.30.10//
CALSCALE:GREGORIAN
METHOD:PUBLISH
UID:ec8878d0-5606-4a26-9d6c-7ff2d235edc6
X-WR-CALDESC:Designed for individuals who are further along in their grief 
 journey\, this group offers a space for continued support\, reflection\, a
 nd connection. Participants focus on personal growth\, honoring their love
 d ones\, and finding ways to integrate loss into their lives while fosteri
 ng hope and resilience. This group is held on the first Thursday of the mo
 nth from 7:00 PM - 8:30 PM EST in English and also available in Spanish on
  the 4th Thursday of each month.
X-WR-RELCALID:21ea90ebaad5bf8938ab5109a97d393f
X-WR-TIMEZONE:America/New_York
BEGIN:VTIMEZONE
TZID:America/New_York
BEGIN:STANDARD
TZNAME:EST
DTSTART:20271107T020000
TZOFFSETFROM:-0400
TZOFFSETTO:-0500
RDATE:20281105T020000
END:STANDARD
BEGIN:DAYLIGHT
TZNAME:EDT
DTSTART:20270314T020000
TZOFFSETFROM:-0500
TZOFFSETTO:-0400
RDATE:20280312T020000
RDATE:20290311T020000
END:DAYLIGHT
END:VTIMEZONE
BEGIN:VEVENT
UID:9cc6e40a-f5d5-4eba-b30d-37d5692a35fd
DTSTAMP:20260422T165340Z
DESCRIPTION:Designed for individuals who are further along in their grief j
 ourney\, this group offers a space for continued support\, reflection\, an
 d connection. Participants focus on personal growth\, honoring their loved
  ones\, and finding ways to integrate loss into their lives while fosterin
 g hope and resilience. This group is held on the first Thursday of the mon
 th from 7:00 PM - 8:30 PM EST in English and also available in Spanish on 
 the 4th Thursday of each month.
DTSTART;TZID=America/New_York:20271202T190000
DTEND;TZID=America/New_York:20271202T203000
LOCATION:https://bit.ly/cbcgroups
SUMMARY:Legacy Grief Support Group
END:VEVENT
END:VCALENDAR
