BEGIN:VCALENDAR
VERSION:2.0
PRODID:-//childbereavement.org//NONSGML kigkonsult.se iCalcreator 2.30.10//
CALSCALE:GREGORIAN
METHOD:PUBLISH
UID:79dc14d9-bdaa-40f8-b3a2-60ecd6669cdd
X-WR-CALDESC:High School Group (Ages 14-17)\nTeens experiencing grief often
  face unique challenges as they juggle school\, friendships\, and identity
  development. This group provides a safe space for open discussions\, peer
  connection\, and exploring complex emotions related to their loss\, helpi
 ng them develop resilience and a sense of community. It meets on Tuesdays 
 from 7:00 PM to 8:30 PM EST.\n
X-WR-RELCALID:ba9a9c68f244180c77582402667fa909
X-WR-TIMEZONE:America/New_York
BEGIN:VTIMEZONE
TZID:America/New_York
BEGIN:STANDARD
TZNAME:EST
DTSTART:20261101T020000
TZOFFSETFROM:-0400
TZOFFSETTO:-0500
RDATE:20271107T020000
RDATE:20281105T020000
END:STANDARD
BEGIN:DAYLIGHT
TZNAME:EDT
DTSTART:20270314T020000
TZOFFSETFROM:-0500
TZOFFSETTO:-0400
RDATE:20280312T020000
END:DAYLIGHT
END:VTIMEZONE
BEGIN:VEVENT
UID:0a06f772-66f1-4474-a5f1-90fd14416a9c
DTSTAMP:20260420T081151Z
DESCRIPTION:High School Group (Ages 14-17)\nTeens experiencing grief often 
 face unique challenges as they juggle school\, friendships\, and identity 
 development. This group provides a safe space for open discussions\, peer 
 connection\, and exploring complex emotions related to their loss\, helpin
 g them develop resilience and a sense of community. It meets on Tuesdays f
 rom 7:00 PM to 8:30 PM EST.\n
DTSTART;TZID=America/New_York:20270713T190000
DTEND;TZID=America/New_York:20270713T203000
LOCATION:https://bit.ly/cbcgroups
SUMMARY:High School Grief Support Groups
END:VEVENT
END:VCALENDAR
