BEGIN:VCALENDAR
VERSION:2.0
PRODID:-//childbereavement.org//NONSGML kigkonsult.se iCalcreator 2.30.10//
CALSCALE:GREGORIAN
METHOD:PUBLISH
UID:3258c6e5-7a3c-4ae8-9e66-c26f93b2f1c4
X-WR-CALDESC:Our groups support adults navigating the loss of a loved one\,
  whether it be a spouse\, parent\, sibling\, or close friend. Sessions foc
 us on emotional processing\, self-care\, and finding ways to honor and rem
 ember their loved ones while adapting to life after loss. These groups are
  held Mondays - Wednesdays from 7:00 PM- 8:30 PM EST in English. \n\nAdult
  Groups are also available in Spanish on Wednesdays and in Haitian Creole 
 on Thursdays from 7:00 PM - 8:30 PM.
X-WR-RELCALID:46fb78a8ec0f6aaf9c059ff8056a0dbb
X-WR-TIMEZONE:America/New_York
BEGIN:VTIMEZONE
TZID:America/New_York
BEGIN:STANDARD
TZNAME:EST
DTSTART:20261101T020000
TZOFFSETFROM:-0400
TZOFFSETTO:-0500
RDATE:20271107T020000
RDATE:20281105T020000
END:STANDARD
BEGIN:DAYLIGHT
TZNAME:EDT
DTSTART:20270314T020000
TZOFFSETFROM:-0500
TZOFFSETTO:-0400
RDATE:20280312T020000
END:DAYLIGHT
END:VTIMEZONE
BEGIN:VEVENT
UID:da7f828e-81ff-40db-8379-98971d9c8a23
DTSTAMP:20260420T065137Z
DESCRIPTION:Our groups support adults navigating the loss of a loved one\, 
 whether it be a spouse\, parent\, sibling\, or close friend. Sessions focu
 s on emotional processing\, self-care\, and finding ways to honor and reme
 mber their loved ones while adapting to life after loss. These groups are 
 held Mondays - Wednesdays from 7:00 PM- 8:30 PM EST in English. \n\nAdult 
 Groups are also available in Spanish on Wednesdays and in Haitian Creole o
 n Thursdays from 7:00 PM - 8:30 PM.
DTSTART;TZID=America/New_York:20270614T190000
DTEND;TZID=America/New_York:20270614T203000
LOCATION:https://bit.ly/cbcgroups
SUMMARY:Adult English Grief Support Group
END:VEVENT
END:VCALENDAR
