BEGIN:VCALENDAR
VERSION:2.0
PRODID:-//childbereavement.org//NONSGML kigkonsult.se iCalcreator 2.30.10//
CALSCALE:GREGORIAN
METHOD:PUBLISH
UID:d27ebda8-8571-403a-aae1-3970a29a34c8
X-WR-CALDESC:
X-WR-RELCALID:b683bb953b9f2fa492b27cc84f041709
X-WR-TIMEZONE:America/New_York
BEGIN:VTIMEZONE
TZID:America/New_York
BEGIN:STANDARD
TZNAME:EST
DTSTART:20261101T020000
TZOFFSETFROM:-0400
TZOFFSETTO:-0500
RDATE:20271107T020000
END:STANDARD
BEGIN:DAYLIGHT
TZNAME:EDT
DTSTART:20270314T020000
TZOFFSETFROM:-0500
TZOFFSETTO:-0400
RDATE:20280312T020000
END:DAYLIGHT
END:VTIMEZONE
BEGIN:VEVENT
UID:6bc5f574-1970-438a-a984-52ad825bee9a
DTSTAMP:20260420T021958Z
DESCRIPTION:
DTSTART;TZID=America/New_York:20270325T190000
DTEND;TZID=America/New_York:20270325T203000
LOCATION:
SUMMARY:Grupo Creciendo con el duelo
END:VEVENT
END:VCALENDAR
