BEGIN:VCALENDAR
VERSION:2.0
PRODID:-//childbereavement.org//NONSGML kigkonsult.se iCalcreator 2.30.10//
CALSCALE:GREGORIAN
METHOD:PUBLISH
UID:6c4d6a47-e761-4a92-8cac-465ac0548816
X-WR-CALDESC:Child / Elementary School Group (Ages 4-10)\nOur child groups 
 provide a safe and nurturing space for young children to process their gri
 ef through age-appropriate activities\, play\, art\, and storytelling. Fac
 ilitators help children express their emotions\, develop coping skills\, a
 nd find comfort in connecting with peers who have also experienced loss. T
 hese groups are held Mondays and Thursdays from 5:30 PM to 6:30 PM EST.
X-WR-RELCALID:29184067ca1525b7ef2ec34d9b021984
X-WR-TIMEZONE:America/New_York
BEGIN:VTIMEZONE
TZID:America/New_York
BEGIN:STANDARD
TZNAME:EST
DTSTART:20261101T020000
TZOFFSETFROM:-0400
TZOFFSETTO:-0500
RDATE:20271107T020000
END:STANDARD
BEGIN:DAYLIGHT
TZNAME:EDT
DTSTART:20260308T020000
TZOFFSETFROM:-0500
TZOFFSETTO:-0400
RDATE:20270314T020000
RDATE:20280312T020000
END:DAYLIGHT
END:VTIMEZONE
BEGIN:VEVENT
UID:1079e3df-6a51-4b6a-9710-8786184907a9
DTSTAMP:20260420T004738Z
DESCRIPTION:Child / Elementary School Group (Ages 4-10)\nOur child groups p
 rovide a safe and nurturing space for young children to process their grie
 f through age-appropriate activities\, play\, art\, and storytelling. Faci
 litators help children express their emotions\, develop coping skills\, an
 d find comfort in connecting with peers who have also experienced loss. Th
 ese groups are held Mondays and Thursdays from 5:30 PM to 6:30 PM EST.
DTSTART;TZID=America/New_York:20270222T173000
DTEND;TZID=America/New_York:20270222T183000
LOCATION:https://bit.ly/cbcgroups
SUMMARY:Elementary School Grief Support Group
END:VEVENT
END:VCALENDAR
