BEGIN:VCALENDAR
VERSION:2.0
PRODID:-//childbereavement.org//NONSGML kigkonsult.se iCalcreator 2.30.10//
CALSCALE:GREGORIAN
METHOD:PUBLISH
UID:bbf98476-6fdc-4d08-8415-0c6a7ffa9d46
X-WR-CALDESC:Middle School Group (Ages 11-13)\nDesigned for preteens naviga
 ting grief and the emotional and social changes of adolescence\, this grou
 p offers a supportive environment where adolescents can share their experi
 ences\, develop coping strategies\, and explore their emotions through dis
 cussion\, creative expression\, and interactive activities. It is held on 
 Mondays from 7:00 PM to 8:30 PM EST.\n
X-WR-RELCALID:1008d7ac5706b6a72aa22417f922f29e
X-WR-TIMEZONE:America/New_York
BEGIN:VTIMEZONE
TZID:America/New_York
BEGIN:STANDARD
TZNAME:EST
DTSTART:20261101T020000
TZOFFSETFROM:-0400
TZOFFSETTO:-0500
RDATE:20271107T020000
END:STANDARD
BEGIN:DAYLIGHT
TZNAME:EDT
DTSTART:20260308T020000
TZOFFSETFROM:-0500
TZOFFSETTO:-0400
RDATE:20270314T020000
RDATE:20280312T020000
END:DAYLIGHT
END:VTIMEZONE
BEGIN:VEVENT
UID:7f1e1c7e-525e-410e-a3c5-ea7523c54d8b
DTSTAMP:20260419T215934Z
DESCRIPTION:Middle School Group (Ages 11-13)\nDesigned for preteens navigat
 ing grief and the emotional and social changes of adolescence\, this group
  offers a supportive environment where adolescents can share their experie
 nces\, develop coping strategies\, and explore their emotions through disc
 ussion\, creative expression\, and interactive activities. It is held on M
 ondays from 7:00 PM to 8:30 PM EST.\n
DTSTART;TZID=America/New_York:20261214T190000
DTEND;TZID=America/New_York:20261214T203000
LOCATION:https://bit.ly/cbcgroups
SUMMARY:Middle School Grief Support Group
END:VEVENT
END:VCALENDAR
