BEGIN:VCALENDAR
VERSION:2.0
PRODID:-//childbereavement.org//NONSGML kigkonsult.se iCalcreator 2.30.10//
CALSCALE:GREGORIAN
METHOD:PUBLISH
UID:cc5950f8-5749-4ceb-81f5-a26178f9dc1a
X-WR-CALDESC:Child / Elementary School Group (Ages 4-10)\nOur child groups 
 provide a safe and nurturing space for young children to process their gri
 ef through age-appropriate activities\, play\, art\, and storytelling. Fac
 ilitators help children express their emotions\, develop coping skills\, a
 nd find comfort in connecting with peers who have also experienced loss. T
 hese groups are held Mondays and Thursdays from 5:30 PM to 6:30 PM EST.
X-WR-RELCALID:eb45b838c2c7ca2624490ef04ce822d1
X-WR-TIMEZONE:America/New_York
BEGIN:VTIMEZONE
TZID:America/New_York
BEGIN:STANDARD
TZNAME:EST
DTSTART:20261101T020000
TZOFFSETFROM:-0400
TZOFFSETTO:-0500
RDATE:20271107T020000
END:STANDARD
BEGIN:DAYLIGHT
TZNAME:EDT
DTSTART:20260308T020000
TZOFFSETFROM:-0500
TZOFFSETTO:-0400
RDATE:20270314T020000
RDATE:20280312T020000
END:DAYLIGHT
END:VTIMEZONE
BEGIN:VEVENT
UID:5e9fd7ab-d749-4f82-914f-f8078c2c0ad6
DTSTAMP:20260419T214406Z
DESCRIPTION:Child / Elementary School Group (Ages 4-10)\nOur child groups p
 rovide a safe and nurturing space for young children to process their grie
 f through age-appropriate activities\, play\, art\, and storytelling. Faci
 litators help children express their emotions\, develop coping skills\, an
 d find comfort in connecting with peers who have also experienced loss. Th
 ese groups are held Mondays and Thursdays from 5:30 PM to 6:30 PM EST.
DTSTART;TZID=America/New_York:20261214T173000
DTEND;TZID=America/New_York:20261214T183000
LOCATION:https://bit.ly/cbcgroups
SUMMARY:Elementary School Grief Support Group
END:VEVENT
END:VCALENDAR
