BEGIN:VCALENDAR
VERSION:2.0
PRODID:-//childbereavement.org//NONSGML kigkonsult.se iCalcreator 2.30.10//
CALSCALE:GREGORIAN
METHOD:PUBLISH
UID:2ad4a952-b246-4157-b346-59591c653a64
X-WR-CALDESC:Our groups support adults navigating the loss of a loved one\,
  whether it be a spouse\, parent\, sibling\, or close friend. Sessions foc
 us on emotional processing\, self-care\, and finding ways to honor and rem
 ember their loved ones while adapting to life after loss. These groups are
  held Mondays - Wednesdays from 7:00 PM- 8:30 PM EST in English. \n\nAdult
  Groups are also available in Spanish on Wednesdays and in Haitian Creole 
 on Thursdays from 7:00 PM - 8:30 PM.
X-WR-RELCALID:3841c6e053e8c246a1fbd2b8b5ad59bf
X-WR-TIMEZONE:America/New_York
BEGIN:VTIMEZONE
TZID:America/New_York
BEGIN:STANDARD
TZNAME:EST
DTSTART:20251102T020000
TZOFFSETFROM:-0400
TZOFFSETTO:-0500
RDATE:20261101T020000
RDATE:20271107T020000
END:STANDARD
BEGIN:DAYLIGHT
TZNAME:EDT
DTSTART:20260308T020000
TZOFFSETFROM:-0500
TZOFFSETTO:-0400
RDATE:20270314T020000
RDATE:20280312T020000
END:DAYLIGHT
END:VTIMEZONE
BEGIN:VEVENT
UID:d37d0a0e-7622-467d-9407-203632ab299b
DTSTAMP:20260419T203750Z
DESCRIPTION:Our groups support adults navigating the loss of a loved one\, 
 whether it be a spouse\, parent\, sibling\, or close friend. Sessions focu
 s on emotional processing\, self-care\, and finding ways to honor and reme
 mber their loved ones while adapting to life after loss. These groups are 
 held Mondays - Wednesdays from 7:00 PM- 8:30 PM EST in English. \n\nAdult 
 Groups are also available in Spanish on Wednesdays and in Haitian Creole o
 n Thursdays from 7:00 PM - 8:30 PM.
DTSTART;TZID=America/New_York:20261102T190000
DTEND;TZID=America/New_York:20261102T203000
LOCATION:https://bit.ly/cbcgroups
SUMMARY:Adult English Grief Support Group
END:VEVENT
END:VCALENDAR
