BEGIN:VCALENDAR
VERSION:2.0
PRODID:-//childbereavement.org//NONSGML kigkonsult.se iCalcreator 2.30.10//
CALSCALE:GREGORIAN
METHOD:PUBLISH
UID:dcc646af-2237-4fc7-965b-91732c5d5750
X-WR-CALDESC:High School Group (Ages 14-17)\nTeens experiencing grief often
  face unique challenges as they juggle school\, friendships\, and identity
  development. This group provides a safe space for open discussions\, peer
  connection\, and exploring complex emotions related to their loss\, helpi
 ng them develop resilience and a sense of community. It meets on Tuesdays 
 from 7:00 PM to 8:30 PM EST.\n
X-WR-RELCALID:3e40a0e96292140dabae36af88707cf2
X-WR-TIMEZONE:America/New_York
BEGIN:VTIMEZONE
TZID:America/New_York
BEGIN:STANDARD
TZNAME:EST
DTSTART:20251102T020000
TZOFFSETFROM:-0400
TZOFFSETTO:-0500
RDATE:20261101T020000
RDATE:20271107T020000
END:STANDARD
BEGIN:DAYLIGHT
TZNAME:EDT
DTSTART:20260308T020000
TZOFFSETFROM:-0500
TZOFFSETTO:-0400
RDATE:20270314T020000
RDATE:20280312T020000
END:DAYLIGHT
END:VTIMEZONE
BEGIN:VEVENT
UID:aa2786cd-3037-46c4-87b0-0f3e212332d9
DTSTAMP:20260419T175921Z
DESCRIPTION:High School Group (Ages 14-17)\nTeens experiencing grief often 
 face unique challenges as they juggle school\, friendships\, and identity 
 development. This group provides a safe space for open discussions\, peer 
 connection\, and exploring complex emotions related to their loss\, helpin
 g them develop resilience and a sense of community. It meets on Tuesdays f
 rom 7:00 PM to 8:30 PM EST.\n
DTSTART;TZID=America/New_York:20260929T190000
DTEND;TZID=America/New_York:20260929T203000
LOCATION:https://bit.ly/cbcgroups
SUMMARY:High School Grief Support Groups
END:VEVENT
END:VCALENDAR
