BEGIN:VCALENDAR
VERSION:2.0
PRODID:-//childbereavement.org//NONSGML kigkonsult.se iCalcreator 2.30.10//
CALSCALE:GREGORIAN
METHOD:PUBLISH
UID:8958bd7d-a845-40a4-90e6-0a1e5a2b9e47
X-WR-CALDESC:
X-WR-RELCALID:7ac731a21e76f888cc6f693569344e14
X-WR-TIMEZONE:America/New_York
BEGIN:VTIMEZONE
TZID:America/New_York
BEGIN:STANDARD
TZNAME:EST
DTSTART:20251102T020000
TZOFFSETFROM:-0400
TZOFFSETTO:-0500
RDATE:20261101T020000
RDATE:20271107T020000
END:STANDARD
BEGIN:DAYLIGHT
TZNAME:EDT
DTSTART:20260308T020000
TZOFFSETFROM:-0500
TZOFFSETTO:-0400
RDATE:20270314T020000
END:DAYLIGHT
END:VTIMEZONE
BEGIN:VEVENT
UID:46aedca7-a774-4629-9168-7c19142ea100
DTSTAMP:20260419T163503Z
DESCRIPTION:
DTSTART;TZID=America/New_York:20260827T190000
DTEND;TZID=America/New_York:20260827T203000
LOCATION:
SUMMARY:Grupo Creciendo con el duelo
END:VEVENT
END:VCALENDAR
