BEGIN:VCALENDAR
VERSION:2.0
PRODID:-//childbereavement.org//NONSGML kigkonsult.se iCalcreator 2.30.10//
CALSCALE:GREGORIAN
METHOD:PUBLISH
UID:d916526e-c34e-48d2-b807-413b696c79eb
X-WR-CALDESC:
X-WR-RELCALID:ab8b94cedd1596cc1feeae7f5843015d
X-WR-TIMEZONE:America/New_York
BEGIN:VTIMEZONE
TZID:America/New_York
BEGIN:STANDARD
TZNAME:EST
DTSTART:20251102T020000
TZOFFSETFROM:-0400
TZOFFSETTO:-0500
RDATE:20261101T020000
RDATE:20271107T020000
END:STANDARD
BEGIN:DAYLIGHT
TZNAME:EDT
DTSTART:20260308T020000
TZOFFSETFROM:-0500
TZOFFSETTO:-0400
RDATE:20270314T020000
END:DAYLIGHT
END:VTIMEZONE
BEGIN:VEVENT
UID:493ec26b-18cf-42ba-826c-399926968c02
DTSTAMP:20260419T150049Z
DESCRIPTION:
DTSTART;TZID=America/New_York:20260720T060000
DTEND;TZID=America/New_York:20260730T060001
LOCATION:
SUMMARY:No Groups Meeting
END:VEVENT
END:VCALENDAR
