BEGIN:VCALENDAR
VERSION:2.0
PRODID:-//childbereavement.org//NONSGML kigkonsult.se iCalcreator 2.30.10//
CALSCALE:GREGORIAN
METHOD:PUBLISH
UID:745a002e-86db-4f00-9472-8563ea93199f
X-WR-CALDESC:The loss of a beloved pet can be deeply painful. Pets are fami
 ly\, companions and sources of unconditional love. When they die\, the gri
 ef can feel overwhelming - and often misunderstood by others. Pet Loss Sup
 port Group is a compassionate place for adults mourning a pet. It provides
  a safe space to share\, listen and honor your bond. You don't have to fac
 e this alone. \n\nMeets monthly on the first Thursday of each month at 7:0
 0 PM\, registration is required.
X-WR-RELCALID:c213b97685cdb24e4b86ede52d7319b6
X-WR-TIMEZONE:America/New_York
BEGIN:VTIMEZONE
TZID:America/New_York
BEGIN:STANDARD
TZNAME:EST
DTSTART:20251102T020000
TZOFFSETFROM:-0400
TZOFFSETTO:-0500
RDATE:20261101T020000
RDATE:20271107T020000
END:STANDARD
BEGIN:DAYLIGHT
TZNAME:EDT
DTSTART:20260308T020000
TZOFFSETFROM:-0500
TZOFFSETTO:-0400
RDATE:20270314T020000
END:DAYLIGHT
END:VTIMEZONE
BEGIN:VEVENT
UID:d30d772a-8846-4e97-9163-4e9d3a3d90d4
DTSTAMP:20260419T150037Z
DESCRIPTION:The loss of a beloved pet can be deeply painful. Pets are famil
 y\, companions and sources of unconditional love. When they die\, the grie
 f can feel overwhelming - and often misunderstood by others. Pet Loss Supp
 ort Group is a compassionate place for adults mourning a pet. It provides 
 a safe space to share\, listen and honor your bond. You don't have to face
  this alone. \n\nMeets monthly on the first Thursday of each month at 7:00
  PM\, registration is required.
DTSTART;TZID=America/New_York:20260702T190000
DTEND;TZID=America/New_York:20260702T203000
LOCATION:https://bit.ly/cbcgroups
SUMMARY:Pet Loss Support Group
END:VEVENT
END:VCALENDAR
