BEGIN:VCALENDAR
VERSION:2.0
PRODID:-//childbereavement.org//NONSGML kigkonsult.se iCalcreator 2.30.10//
CALSCALE:GREGORIAN
METHOD:PUBLISH
UID:d9a0eba6-aa2e-4567-a9ae-1f8b99c3beb1
X-WR-CALDESC:Designed for individuals who are further along in their grief 
 journey\, this group offers a space for continued support\, reflection\, a
 nd connection. Participants focus on personal growth\, honoring their love
 d ones\, and finding ways to integrate loss into their lives while fosteri
 ng hope and resilience. This group is held on the first Thursday of the mo
 nth from 7:00 PM - 8:30 PM EST in English and also available in Spanish on
  the 4th Thursday of each month.
X-WR-RELCALID:ab6f3f506b7367893df055ad44dcbf84
X-WR-TIMEZONE:America/New_York
BEGIN:VTIMEZONE
TZID:America/New_York
BEGIN:STANDARD
TZNAME:EST
DTSTART:20251102T020000
TZOFFSETFROM:-0400
TZOFFSETTO:-0500
RDATE:20261101T020000
RDATE:20271107T020000
END:STANDARD
BEGIN:DAYLIGHT
TZNAME:EDT
DTSTART:20260308T020000
TZOFFSETFROM:-0500
TZOFFSETTO:-0400
RDATE:20270314T020000
END:DAYLIGHT
END:VTIMEZONE
BEGIN:VEVENT
UID:5ed2d8ea-4630-4864-a8d2-b127dde6fcb9
DTSTAMP:20260419T150218Z
DESCRIPTION:Designed for individuals who are further along in their grief j
 ourney\, this group offers a space for continued support\, reflection\, an
 d connection. Participants focus on personal growth\, honoring their loved
  ones\, and finding ways to integrate loss into their lives while fosterin
 g hope and resilience. This group is held on the first Thursday of the mon
 th from 7:00 PM - 8:30 PM EST in English and also available in Spanish on 
 the 4th Thursday of each month.
DTSTART;TZID=America/New_York:20260702T190000
DTEND;TZID=America/New_York:20260702T203000
LOCATION:https://bit.ly/cbcgroups
SUMMARY:Legacy Grief Support Group
END:VEVENT
END:VCALENDAR
