BEGIN:VCALENDAR
VERSION:2.0
PRODID:-//childbereavement.org//NONSGML kigkonsult.se iCalcreator 2.30.10//
CALSCALE:GREGORIAN
METHOD:PUBLISH
UID:f71fc0ab-e7cc-41e3-a3c7-0f2a783bbb1b
X-WR-CALDESC:Join us for a Workshop at Children's Village at Lotus Village!
 \nDuring 10 Days of Connection\, stop by the Community Lobby to create an 
 Empathy Puzzle together - a simple\, hands-on reminder that support is som
 ething we build and share. \nEnjoy free snacks and time to connect. \n\nFR
 EE RSVP
X-WR-RELCALID:48b1656103ddfe4aded0817a1c5ccba9
X-WR-TIMEZONE:America/New_York
BEGIN:VTIMEZONE
TZID:America/New_York
BEGIN:STANDARD
TZNAME:EST
DTSTART:20251102T020000
TZOFFSETFROM:-0400
TZOFFSETTO:-0500
RDATE:20261101T020000
END:STANDARD
BEGIN:DAYLIGHT
TZNAME:EDT
DTSTART:20260308T020000
TZOFFSETFROM:-0500
TZOFFSETTO:-0400
RDATE:20270314T020000
END:DAYLIGHT
END:VTIMEZONE
BEGIN:VEVENT
UID:a4a77c41-7a15-4db4-ac6a-1b30d82d3c49
DTSTAMP:20260422T004755Z
DESCRIPTION:Join us for a Workshop at Children's Village at Lotus Village!
 \nDuring 10 Days of Connection\, stop by the Community Lobby to create an 
 Empathy Puzzle together - a simple\, hands-on reminder that support is som
 ething we build and share. \nEnjoy free snacks and time to connect. \n\nFR
 EE RSVP
DTSTART;TZID=America/New_York:20260507T110000
DTEND;TZID=America/New_York:20260507T130000
LOCATION:219 NW 14th Terrace\, Miami\, FL 33136 US
SUMMARY:Create & Connect Workshop
END:VEVENT
END:VCALENDAR
