BEGIN:VCALENDAR
VERSION:2.0
PRODID:-//childbereavement.org//NONSGML kigkonsult.se iCalcreator 2.30.10//
CALSCALE:GREGORIAN
METHOD:PUBLISH
UID:7078f90f-e6be-4687-be8f-52dd5eab9e47
X-WR-CALDESC:Let’s make this the biggest giveback yet for the Children’s Be
 reavement Center in partnership with Kendra Scott Dadeland Mall. On Novemb
 er 9 from 1–3 PM\, 20% of all sales will benefit CBC and help provide free
  grief support to children and families across Southeast Florida. Help spr
 ead the word by posting the invitation below and engaging with your networ
 k using #CBCKendraScott. The post with the most engagement will win a comp
 limentary piece of jewelry from Kendra Scott Dadeland.\n\nThe winner will 
 be announced on November 14 at 5 PM and must collect their prize during St
 eps for Healing at Zoo Miami on November 15.\n
X-WR-RELCALID:24d6c82232ccd88ba397c8542b964fde
X-WR-TIMEZONE:America/New_York
BEGIN:VTIMEZONE
TZID:America/New_York
BEGIN:STANDARD
TZNAME:EST
DTSTART:20251102T020000
TZOFFSETFROM:-0400
TZOFFSETTO:-0500
RDATE:20261101T020000
END:STANDARD
BEGIN:DAYLIGHT
TZNAME:EDT
DTSTART:20250309T020000
TZOFFSETFROM:-0500
TZOFFSETTO:-0400
RDATE:20260308T020000
RDATE:20270314T020000
END:DAYLIGHT
END:VTIMEZONE
BEGIN:VEVENT
UID:4e3c0cb4-5651-40f4-85a7-3f1c4c710ac8
DTSTAMP:20260419T170655Z
DESCRIPTION:Let’s make this the biggest giveback yet for the Children’s Ber
 eavement Center in partnership with Kendra Scott Dadeland Mall. On Novembe
 r 9 from 1–3 PM\, 20% of all sales will benefit CBC and help provide free 
 grief support to children and families across Southeast Florida. Help spre
 ad the word by posting the invitation below and engaging with your network
  using #CBCKendraScott. The post with the most engagement will win a compl
 imentary piece of jewelry from Kendra Scott Dadeland.\n\nThe winner will b
 e announced on November 14 at 5 PM and must collect their prize during Ste
 ps for Healing at Zoo Miami on November 15.\n
DTSTART;TZID=America/New_York:20251109T130000
DTEND;TZID=America/New_York:20251109T150000
LOCATION:7601 North Kendall Drive\, Suite 2190\, Miami\, FL 33156 US
SUMMARY:Kendra Scott Dadeland Mall Event
END:VEVENT
END:VCALENDAR
