BEGIN:VCALENDAR
VERSION:2.0
PRODID:-//childbereavement.org//NONSGML kigkonsult.se iCalcreator 2.30.10//
CALSCALE:GREGORIAN
METHOD:PUBLISH
UID:08f05a85-9eab-49fc-b26d-bb8fceb67825
X-WR-CALDESC:
X-WR-RELCALID:09233e32b4985338c8c7878d89b9207a
X-WR-TIMEZONE:America/New_York
BEGIN:VTIMEZONE
TZID:America/New_York
BEGIN:STANDARD
TZNAME:EST
DTSTART:20241103T020000
TZOFFSETFROM:-0400
TZOFFSETTO:-0500
RDATE:20251102T020000
RDATE:20261101T020000
END:STANDARD
BEGIN:DAYLIGHT
TZNAME:EDT
DTSTART:20250309T020000
TZOFFSETFROM:-0500
TZOFFSETTO:-0400
RDATE:20260308T020000
END:DAYLIGHT
END:VTIMEZONE
BEGIN:VEVENT
UID:d8ced2d3-e6e1-4100-9c38-19fe87564645
DTSTAMP:20260420T083639Z
DESCRIPTION:
DTSTART;TZID=America/New_York:20250508T190000
DTEND;TZID=America/New_York:20250508T203000
LOCATION:https://childbereavement.org/creole/kreyol.html
SUMMARY:Gwoup pou granmotan an Kreyòl
END:VEVENT
END:VCALENDAR
