BEGIN:VCALENDAR
VERSION:2.0
PRODID:-//childbereavement.org//NONSGML kigkonsult.se iCalcreator 2.30.10//
CALSCALE:GREGORIAN
METHOD:PUBLISH
UID:2d69af05-9497-4d7c-b939-43af4bc6bbd1
X-WR-CALDESC:
X-WR-RELCALID:cc7868d6a09748d3cce762c1aaf8d4c3
X-WR-TIMEZONE:America/New_York
BEGIN:VTIMEZONE
TZID:America/New_York
BEGIN:STANDARD
TZNAME:EST
DTSTART:20231105T020000
TZOFFSETFROM:-0400
TZOFFSETTO:-0500
RDATE:20241103T020000
END:STANDARD
BEGIN:DAYLIGHT
TZNAME:EDT
DTSTART:20230312T020000
TZOFFSETFROM:-0500
TZOFFSETTO:-0400
RDATE:20240310T020000
RDATE:20250309T020000
END:DAYLIGHT
END:VTIMEZONE
BEGIN:VEVENT
UID:a63f0041-e13e-49d9-b71c-aae7b08e33cd
DTSTAMP:20260421T101343Z
DESCRIPTION:
DTSTART;TZID=America/New_York:20240214T190000
DTEND;TZID=America/New_York:20240214T203000
LOCATION:https://childbereavement.org/support-groups/grief-support.html
SUMMARY:Adult English Grief Support Group
END:VEVENT
END:VCALENDAR
