BEGIN:VCALENDAR
VERSION:2.0
PRODID:-//childbereavement.org//NONSGML kigkonsult.se iCalcreator 2.30.10//
CALSCALE:GREGORIAN
METHOD:PUBLISH
UID:df7af6e1-3bc2-470c-8dd8-d43a91b26fb7
X-WR-CALDESC:
X-WR-RELCALID:d683993acab3dad7d5b822070dffaef1
X-WR-TIMEZONE:America/New_York
BEGIN:VTIMEZONE
TZID:America/New_York
BEGIN:STANDARD
TZNAME:EST
DTSTART:20231105T020000
TZOFFSETFROM:-0400
TZOFFSETTO:-0500
RDATE:20241103T020000
END:STANDARD
BEGIN:DAYLIGHT
TZNAME:EDT
DTSTART:20230312T020000
TZOFFSETFROM:-0500
TZOFFSETTO:-0400
RDATE:20240310T020000
RDATE:20250309T020000
END:DAYLIGHT
END:VTIMEZONE
BEGIN:VEVENT
UID:43212d1e-f5e3-400c-8084-604d2b8ee4fe
DTSTAMP:20260423T103042Z
DESCRIPTION:
DTSTART;TZID=America/New_York:20231108T190000
DTEND;TZID=America/New_York:20231108T203000
LOCATION:https://childbereavement.org/en-espanol/
SUMMARY:Grupo de Perdida Perinatal Y de Infancia Español
END:VEVENT
END:VCALENDAR
