BEGIN:VCALENDAR
VERSION:2.0
PRODID:-//childbereavement.org//NONSGML kigkonsult.se iCalcreator 2.30.10//
CALSCALE:GREGORIAN
METHOD:PUBLISH
UID:6241be25-a8ca-4437-9d68-0cbb26551808
X-WR-CALDESC:
X-WR-RELCALID:51b57f83f27c6786387fd4e4b004914f
X-WR-TIMEZONE:America/New_York
BEGIN:VTIMEZONE
TZID:America/New_York
BEGIN:STANDARD
TZNAME:EST
DTSTART:20221106T020000
TZOFFSETFROM:-0400
TZOFFSETTO:-0500
RDATE:20231105T020000
RDATE:20241103T020000
END:STANDARD
BEGIN:DAYLIGHT
TZNAME:EDT
DTSTART:20230312T020000
TZOFFSETFROM:-0500
TZOFFSETTO:-0400
RDATE:20240310T020000
RDATE:20250309T020000
END:DAYLIGHT
END:VTIMEZONE
BEGIN:VEVENT
UID:1969cdbd-e897-452b-b3da-99faf3a028c1
DTSTAMP:20260419T122629Z
DESCRIPTION:
DTSTART;TZID=America/New_York:20231030T190000
DTEND;TZID=America/New_York:20231030T203000
LOCATION:https://childbereavement.org/support-groups/grief-support.html
SUMMARY:Child Loss Adult English Grief Support Group
END:VEVENT
END:VCALENDAR
