BEGIN:VCALENDAR
VERSION:2.0
PRODID:-//childbereavement.org//NONSGML kigkonsult.se iCalcreator 2.30.10//
CALSCALE:GREGORIAN
METHOD:PUBLISH
UID:ed39af3b-d721-48e4-bd41-9a8c6e35eaf8
X-WR-CALDESC:
X-WR-RELCALID:0c4381c871ed31d21ce69b9516ddb508
X-WR-TIMEZONE:America/New_York
BEGIN:VTIMEZONE
TZID:America/New_York
BEGIN:STANDARD
TZNAME:EST
DTSTART:20221106T020000
TZOFFSETFROM:-0400
TZOFFSETTO:-0500
RDATE:20231105T020000
RDATE:20241103T020000
END:STANDARD
BEGIN:DAYLIGHT
TZNAME:EDT
DTSTART:20230312T020000
TZOFFSETFROM:-0500
TZOFFSETTO:-0400
RDATE:20240310T020000
RDATE:20250309T020000
END:DAYLIGHT
END:VTIMEZONE
BEGIN:VEVENT
UID:f7f59fc1-da1b-4f4c-8f6d-7b976cc0918d
DTSTAMP:20260419T120842Z
DESCRIPTION:
DTSTART;TZID=America/New_York:20231030T173000
DTEND;TZID=America/New_York:20231030T183000
LOCATION:https://childbereavement.org/support-groups/grief-support.html
SUMMARY:Elementary Grief Support Group
END:VEVENT
END:VCALENDAR
