BEGIN:VCALENDAR
VERSION:2.0
PRODID:-//childbereavement.org//NONSGML kigkonsult.se iCalcreator 2.30.10//
CALSCALE:GREGORIAN
METHOD:PUBLISH
UID:8f7cd60e-7a16-4c4f-ab4b-a34183e34004
X-WR-CALDESC:
X-WR-RELCALID:b2b14504b6a509c8aa62376f44ef891c
X-WR-TIMEZONE:America/New_York
BEGIN:VTIMEZONE
TZID:America/New_York
BEGIN:STANDARD
TZNAME:EST
DTSTART:20221106T020000
TZOFFSETFROM:-0400
TZOFFSETTO:-0500
RDATE:20231105T020000
RDATE:20241103T020000
END:STANDARD
BEGIN:DAYLIGHT
TZNAME:EDT
DTSTART:20230312T020000
TZOFFSETFROM:-0500
TZOFFSETTO:-0400
RDATE:20240310T020000
RDATE:20250309T020000
END:DAYLIGHT
END:VTIMEZONE
BEGIN:VEVENT
UID:2eebae96-e69e-447c-b307-3b6202b75723
DTSTAMP:20260419T121937Z
DESCRIPTION:
DTSTART;TZID=America/New_York:20231009T190000
DTEND;TZID=America/New_York:20231009T203000
LOCATION:https://childbereavement.org/support-groups/grief-support.html
SUMMARY:Child Loss Adult English Grief Support Group
END:VEVENT
END:VCALENDAR
