BEGIN:VCALENDAR
VERSION:2.0
PRODID:-//childbereavement.org//NONSGML kigkonsult.se iCalcreator 2.30.10//
CALSCALE:GREGORIAN
METHOD:PUBLISH
UID:87b3e5ae-5c62-4510-95b2-1ede4edc1342
X-WR-CALDESC:
X-WR-RELCALID:9dcc342dbad5a59928d75051f260f005
X-WR-TIMEZONE:America/New_York
BEGIN:VTIMEZONE
TZID:America/New_York
BEGIN:STANDARD
TZNAME:EST
DTSTART:20221106T020000
TZOFFSETFROM:-0400
TZOFFSETTO:-0500
RDATE:20231105T020000
RDATE:20241103T020000
END:STANDARD
BEGIN:DAYLIGHT
TZNAME:EDT
DTSTART:20230312T020000
TZOFFSETFROM:-0500
TZOFFSETTO:-0400
RDATE:20240310T020000
RDATE:20250309T020000
END:DAYLIGHT
END:VTIMEZONE
BEGIN:VEVENT
UID:7f540276-1ff6-4a9a-bd05-bdff6c363912
DTSTAMP:20260419T121413Z
DESCRIPTION:
DTSTART;TZID=America/New_York:20231009T170000
DTEND;TZID=America/New_York:20231009T180000
LOCATION:https://childbereavement.org/support-groups/grief-support.html
SUMMARY:Orientation for Grief Support Groups\, English
END:VEVENT
END:VCALENDAR
