BEGIN:VCALENDAR
VERSION:2.0
PRODID:-//childbereavement.org//NONSGML kigkonsult.se iCalcreator 2.30.10//
CALSCALE:GREGORIAN
METHOD:PUBLISH
UID:5519e00e-f031-4d37-ba58-a256d35a72c3
X-WR-CALDESC:
X-WR-RELCALID:5d7e51ed65aacdf77a03018f3701a915
X-WR-TIMEZONE:America/New_York
BEGIN:VTIMEZONE
TZID:America/New_York
BEGIN:STANDARD
TZNAME:EST
DTSTART:20221106T020000
TZOFFSETFROM:-0400
TZOFFSETTO:-0500
RDATE:20231105T020000
RDATE:20241103T020000
END:STANDARD
BEGIN:DAYLIGHT
TZNAME:EDT
DTSTART:20230312T020000
TZOFFSETFROM:-0500
TZOFFSETTO:-0400
RDATE:20240310T020000
RDATE:20250309T020000
END:DAYLIGHT
END:VTIMEZONE
BEGIN:VEVENT
UID:edb9d9a0-9ebd-473b-b7ff-30a0f9b3c1e1
DTSTAMP:20260419T120923Z
DESCRIPTION:
DTSTART;TZID=America/New_York:20231003T173000
DTEND;TZID=America/New_York:20231003T193000
LOCATION:DBCC Gathering Place\, 959 SE 6th Avenue\, Deerfield Beach\, FL 33
 441 US
SUMMARY:Grief & Resilence
END:VEVENT
END:VCALENDAR
