BEGIN:VCALENDAR
VERSION:2.0
PRODID:-//childbereavement.org//NONSGML kigkonsult.se iCalcreator 2.30.10//
CALSCALE:GREGORIAN
METHOD:PUBLISH
UID:59fbdcf7-f41b-4d82-b06b-fa815ec8d4fe
X-WR-CALDESC:
X-WR-RELCALID:3f179d5ebbbdf2f79ab809f173d950af
X-WR-TIMEZONE:America/New_York
BEGIN:VTIMEZONE
TZID:America/New_York
BEGIN:STANDARD
TZNAME:EST
DTSTART:20221106T020000
TZOFFSETFROM:-0400
TZOFFSETTO:-0500
RDATE:20231105T020000
RDATE:20241103T020000
END:STANDARD
BEGIN:DAYLIGHT
TZNAME:EDT
DTSTART:20230312T020000
TZOFFSETFROM:-0500
TZOFFSETTO:-0400
RDATE:20240310T020000
RDATE:20250309T020000
END:DAYLIGHT
END:VTIMEZONE
BEGIN:VEVENT
UID:44d1bfca-0006-437d-876b-f7e874734ecb
DTSTAMP:20260419T133803Z
DESCRIPTION:
DTSTART;TZID=America/New_York:20230927T190000
DTEND;TZID=America/New_York:20230927T203000
LOCATION:https://childbereavement.org/support-groups/grief-support.html
SUMMARY:Young Adult Grief Support Group
END:VEVENT
END:VCALENDAR
