BEGIN:VCALENDAR
VERSION:2.0
PRODID:-//childbereavement.org//NONSGML kigkonsult.se iCalcreator 2.30.10//
CALSCALE:GREGORIAN
METHOD:PUBLISH
UID:b039b42c-96f3-45b3-8ace-15d1e27354f8
X-WR-CALDESC:
X-WR-RELCALID:d45297ae58ae413913b9d7964e2d92d8
X-WR-TIMEZONE:America/New_York
BEGIN:VTIMEZONE
TZID:America/New_York
BEGIN:STANDARD
TZNAME:EST
DTSTART:20221106T020000
TZOFFSETFROM:-0400
TZOFFSETTO:-0500
RDATE:20231105T020000
RDATE:20241103T020000
END:STANDARD
BEGIN:DAYLIGHT
TZNAME:EDT
DTSTART:20230312T020000
TZOFFSETFROM:-0500
TZOFFSETTO:-0400
RDATE:20240310T020000
RDATE:20250309T020000
END:DAYLIGHT
END:VTIMEZONE
BEGIN:VEVENT
UID:a55f2908-e266-4d03-bf36-4c298b1a3fe3
DTSTAMP:20260419T134159Z
DESCRIPTION:
DTSTART;TZID=America/New_York:20230927T190000
DTEND;TZID=America/New_York:20230927T203000
LOCATION:https://childbereavement.org/en-espanol/
SUMMARY:Grupo de Perdida Perinatal Y de Infancia Español
END:VEVENT
END:VCALENDAR
